BEGIN:VCALENDAR
VERSION:2.0
PRODID:-// - ECPv6.15.17.1//NONSGML v1.0//EN
CALSCALE:GREGORIAN
METHOD:PUBLISH
X-ORIGINAL-URL:https://www.turkuastro.fi
X-WR-CALDESC:Tapahtumat 
REFRESH-INTERVAL;VALUE=DURATION:PT1H
X-Robots-Tag:noindex
X-PUBLISHED-TTL:PT1H
BEGIN:VTIMEZONE
TZID:Europe/Helsinki
BEGIN:DAYLIGHT
TZOFFSETFROM:+0200
TZOFFSETTO:+0300
TZNAME:EEST
DTSTART:20220327T010000
END:DAYLIGHT
BEGIN:STANDARD
TZOFFSETFROM:+0300
TZOFFSETTO:+0200
TZNAME:EET
DTSTART:20221030T010000
END:STANDARD
BEGIN:DAYLIGHT
TZOFFSETFROM:+0200
TZOFFSETTO:+0300
TZNAME:EEST
DTSTART:20230326T010000
END:DAYLIGHT
BEGIN:STANDARD
TZOFFSETFROM:+0300
TZOFFSETTO:+0200
TZNAME:EET
DTSTART:20231029T010000
END:STANDARD
BEGIN:DAYLIGHT
TZOFFSETFROM:+0200
TZOFFSETTO:+0300
TZNAME:EEST
DTSTART:20240331T010000
END:DAYLIGHT
BEGIN:STANDARD
TZOFFSETFROM:+0300
TZOFFSETTO:+0200
TZNAME:EET
DTSTART:20241027T010000
END:STANDARD
END:VTIMEZONE
BEGIN:VEVENT
DTSTART;TZID=Europe/Helsinki:20231118T140000
DTEND;TZID=Europe/Helsinki:20231118T160000
DTSTAMP:20260422T140112
CREATED:20231023T200146Z
LAST-MODIFIED:20231105T090851Z
UID:620-1700316000-1700323200@www.turkuastro.fi
SUMMARY:Seppo Tanhuan luento "Jumalatarvoimat"
DESCRIPTION:Seppo Tanhuan luento ”Jumalatarvoimat” la 18.11.23 klo 14 – 16.\nSeppo : ”Astrologisella kartalla esiintyvät neljä suurinta asteroidia ovat kuuluneet henkilökohtaisten tulkintojeni sisältöön aivan urani alusta alkaen eli yli 30 vuotta. Luennolla siis tarkastelussa Ceres – (Äiti ja huolehtija minussa)\, Juno (Kaksoisliekit henkisen kasvun opettajina)\, Pallas Athene (Viisauden androgyyni Jumalatar)\, Vesta (Valon Papitar tai Valon Pappi). Luennolla tuon esille omaa kokemustani näistä tekijöistä ihmisten kartoilla ja elämässä. Monimuotoiseen mytologiaan ja jumalhistoriaan en aio sukeltaa pintaa syvemmälle\, mutta jotain kuitenkin. Esimerkki kartat löytyvät yleisön keskuudesta.” (näitä ajan puitteissa vain muutama) \n\n\n\n\nTervetuloa mukaan omien Jumalatarvoimien äärelle.\n\n\n\n\n\nPuutarhakatu 7a AS 2\,(ovisummeri Konepäällystön tila) 20100 Turku tai osallistu Zoomin kautta.\n\n\nIlmoittaudu s-postiin: info@turkuastro.fi ja kerro tuletko paikan päälle vai tarvitsetko linkin Zoomiin. Kuunteluaikaa on 2 viikkoa.\n\n\nLuennon hinta 15 € jäsen / 20 € ei jäsen. Maksu etukäteen tilille:\nTurun Seudun Astrologinen Seura ry FI51 4309 0010 0431 80 ja tiedoksi ”Jumalatarvoimat” ja oma nimi. Paikan päällä voi maksaa myös pankkikortilla.\n\n\n\n\nKuva: pixapay.com ”Athene”
URL:https://www.turkuastro.fi/index.php/event/seppo-tanhuan-luento-jumalatarvoimat/
LOCATION:Puutarhakatu 7 A\, Puutarhakatu 7 a\, Turku\, 20100\, Suomi
ATTACH;FMTTYPE=image/jpeg:https://www.turkuastro.fi/wp-content/uploads/2023/10/TurkuAstro-STanhua-18112312.jpg
END:VEVENT
END:VCALENDAR