BEGIN:VCALENDAR
VERSION:2.0
PRODID:-// - ECPv6.15.17.1//NONSGML v1.0//EN
CALSCALE:GREGORIAN
METHOD:PUBLISH
X-ORIGINAL-URL:https://www.turkuastro.fi
X-WR-CALDESC:Tapahtumat 
REFRESH-INTERVAL;VALUE=DURATION:PT1H
X-Robots-Tag:noindex
X-PUBLISHED-TTL:PT1H
BEGIN:VTIMEZONE
TZID:Europe/Helsinki
BEGIN:DAYLIGHT
TZOFFSETFROM:+0200
TZOFFSETTO:+0300
TZNAME:EEST
DTSTART:20240331T010000
END:DAYLIGHT
BEGIN:STANDARD
TZOFFSETFROM:+0300
TZOFFSETTO:+0200
TZNAME:EET
DTSTART:20241027T010000
END:STANDARD
BEGIN:DAYLIGHT
TZOFFSETFROM:+0200
TZOFFSETTO:+0300
TZNAME:EEST
DTSTART:20250330T010000
END:DAYLIGHT
BEGIN:STANDARD
TZOFFSETFROM:+0300
TZOFFSETTO:+0200
TZNAME:EET
DTSTART:20251026T010000
END:STANDARD
BEGIN:DAYLIGHT
TZOFFSETFROM:+0200
TZOFFSETTO:+0300
TZNAME:EEST
DTSTART:20260329T010000
END:DAYLIGHT
BEGIN:STANDARD
TZOFFSETFROM:+0300
TZOFFSETTO:+0200
TZNAME:EET
DTSTART:20261025T010000
END:STANDARD
END:VTIMEZONE
BEGIN:VEVENT
DTSTART;TZID=Europe/Helsinki:20250126T120000
DTEND;TZID=Europe/Helsinki:20250126T150000
DTSTAMP:20260421T115803
CREATED:20250107T144631Z
LAST-MODIFIED:20250107T145852Z
UID:1368-1737892800-1737903600@www.turkuastro.fi
SUMMARY:Juuriastrologian pienryhmä 0125
DESCRIPTION:Juuriastrologian pienryhmässä opiskellaan astrologiaa traditionaalisella painotuksella\, modernit tekniikat\nhuomioiden.\nRyhmä on kaikille avoin\, mutta astrologian perusteiden tuntemisesta on\nhyötyä.\nOpiskelun lähtökohtana ovat alkuperäisen syntymäkartta-astrologian\ntulkintaperiaatteet ja niiden soveltaminen nykyaikaan.\nEtäosallistuminen Teamsin kautta\nmahdollinen.\nKäytössä oma Whatsapp-ryhmä. \nVetäjänä Risto Vartiainen\, joka on toiminut\nastrologina yli neljä vuosikymmentä. \nOsallistumismaksu 20 € jäsen\, 30 € ei-jäsen.\nMaksu paikan päällä pankkikortilla tai etukäteen seuran tilille:\nTurun Seudun Astrologinen Seura ry FI51 4309 0010 0431 80\, viitenumero 2025025.
URL:https://www.turkuastro.fi/index.php/event/juuriastrologian-pienryhma-0125/
LOCATION:Brahenkatu 18 b B 38\, Brahenkatu 18 b B 38\, Turku\, 20100\, Suomi
ATTACH;FMTTYPE=image/jpeg:https://www.turkuastro.fi/wp-content/uploads/2025/01/Traditionaalinen-astrologia.jpg
END:VEVENT
END:VCALENDAR