BEGIN:VCALENDAR
VERSION:2.0
PRODID:-// - ECPv6.15.17.1//NONSGML v1.0//EN
CALSCALE:GREGORIAN
METHOD:PUBLISH
X-ORIGINAL-URL:https://www.turkuastro.fi
X-WR-CALDESC:Tapahtumat 
REFRESH-INTERVAL;VALUE=DURATION:PT1H
X-Robots-Tag:noindex
X-PUBLISHED-TTL:PT1H
BEGIN:VTIMEZONE
TZID:Europe/Helsinki
BEGIN:DAYLIGHT
TZOFFSETFROM:+0200
TZOFFSETTO:+0300
TZNAME:EEST
DTSTART:20220327T010000
END:DAYLIGHT
BEGIN:STANDARD
TZOFFSETFROM:+0300
TZOFFSETTO:+0200
TZNAME:EET
DTSTART:20221030T010000
END:STANDARD
BEGIN:DAYLIGHT
TZOFFSETFROM:+0200
TZOFFSETTO:+0300
TZNAME:EEST
DTSTART:20230326T010000
END:DAYLIGHT
BEGIN:STANDARD
TZOFFSETFROM:+0300
TZOFFSETTO:+0200
TZNAME:EET
DTSTART:20231029T010000
END:STANDARD
BEGIN:DAYLIGHT
TZOFFSETFROM:+0200
TZOFFSETTO:+0300
TZNAME:EEST
DTSTART:20240331T010000
END:DAYLIGHT
BEGIN:STANDARD
TZOFFSETFROM:+0300
TZOFFSETTO:+0200
TZNAME:EET
DTSTART:20241027T010000
END:STANDARD
END:VTIMEZONE
BEGIN:VEVENT
DTSTART;TZID=Europe/Helsinki:20231022T140000
DTEND;TZID=Europe/Helsinki:20231022T173000
DTSTAMP:20260422T140122
CREATED:20231022T090244Z
LAST-MODIFIED:20231022T090244Z
UID:606-1697983200-1697995800@www.turkuastro.fi
SUMMARY:Esoteerisen astrologian workshop su 22.10. klo 14:00-17:30.
DESCRIPTION:VIELÄ EHTII MUKAAN! \nEsoteerinen astrologia on hieno työkalu itsetuntemukseen sielun näkökulmasta tarkasteltuna. Astrologisen tekniikan lisäksi merkittävä osa on kokonaisfilosofialla\, joka muun muassa määrittää merkkien tarkoituksen perinteisestä tavasta poikkeavasti.\nHeli Nuotio avaa workshopissaan perinteisen ja Esoteerisen astrologian eroja sekä valottaa näkökulmaa Esoteeriseen astrologiaan tavalla\, jolla se on esitetty Ajattomassa viisaudessa ja Alice A. Baileyn Esoteric Astrology -kirjassa. \nIlmoittaudu mukaan info@turkuastro.fi TAI tule paikalle.\nOsoite: Puutarhakatu 7a\, a2 vai tarvitsetko Zoom-linkin.\n \nHinta 25 € jäsen\, 35 € ei-jäsen.\nMaksu paikan päällä pankkikortilla tai etukäteen seuran tilille;\nTurun Seudun Astrologinen Seura ry FI51 4309 0010 0431 80.
URL:https://www.turkuastro.fi/index.php/event/esoteerisen-astrologian-workshop-su-22-10-klo-1400-1730/
LOCATION:Puutarhakatu 7 A\, Puutarhakatu 7 a\, Turku\, 20100\, Suomi
ATTACH;FMTTYPE=image/jpeg:https://www.turkuastro.fi/wp-content/uploads/2023/10/Heli-Nuotio.jpg
END:VEVENT
END:VCALENDAR